Package: MEIGOR Version: 1.42.0 Command: rm -rf MEIGOR.buildbin-libdir && mkdir MEIGOR.buildbin-libdir && /Users/biocbuild/BBS/utils/build-universal.sh MEIGOR_1.42.0.tar.gz /Library/Frameworks/R.framework/Resources/bin/R MEIGOR.buildbin-libdir StartedAt: 2025-10-15 19:11:42 -0400 (Wed, 15 Oct 2025) EndedAt: 2025-10-15 19:11:57 -0400 (Wed, 15 Oct 2025) EllapsedTime: 14.7 seconds RetCode: 0 Status: OK PackageFile: MEIGOR_1.42.0.tgz PackageFileSize: 1.914 MiB