Package: MEDME Version: 1.68.0 Command: rm -rf MEDME.buildbin-libdir && mkdir MEDME.buildbin-libdir && E:\biocbuild\bbs-3.21-bioc\R\bin\R.exe CMD INSTALL --build --library=MEDME.buildbin-libdir MEDME_1.68.0.tar.gz StartedAt: 2025-08-15 09:39:03 -0400 (Fri, 15 Aug 2025) EndedAt: 2025-08-15 09:39:32 -0400 (Fri, 15 Aug 2025) EllapsedTime: 28.7 seconds RetCode: 0 Status: OK PackageFile: MEDME_1.68.0.zip PackageFileSize: 550.4 KiB