Package: MEDME Version: 1.68.0 Command: /home/biocbuild/R/R/bin/R CMD INSTALL MEDME StartedAt: 2025-10-13 20:46:45 -0000 (Mon, 13 Oct 2025) EndedAt: 2025-10-13 20:47:06 -0000 (Mon, 13 Oct 2025) EllapsedTime: 20.3 seconds RetCode: 0 Status: OK