Package: MEDME Version: 1.68.0 Command: /home/biocbuild/R/R/bin/R CMD build --keep-empty-dirs --no-resave-data MEDME StartedAt: 2025-10-14 02:12:43 -0000 (Tue, 14 Oct 2025) EndedAt: 2025-10-14 02:13:30 -0000 (Tue, 14 Oct 2025) EllapsedTime: 47.0 seconds RetCode: 0 Status: OK PackageFile: MEDME_1.68.0.tar.gz PackageFileSize: 441.9 KiB