Package: MEDME Version: 1.68.0 Command: /Library/Frameworks/R.framework/Resources/bin/R CMD INSTALL MEDME StartedAt: 2025-10-13 15:54:53 -0400 (Mon, 13 Oct 2025) EndedAt: 2025-10-13 15:55:10 -0400 (Mon, 13 Oct 2025) EllapsedTime: 17.2 seconds RetCode: 0 Status: OK