Package: MEDME Version: 1.68.0 Command: /Library/Frameworks/R.framework/Resources/bin/R CMD check --install=check:MEDME.install-out.txt --library=/Library/Frameworks/R.framework/Resources/library --no-vignettes --timings MEDME_1.68.0.tar.gz StartedAt: 2025-10-15 02:41:40 -0400 (Wed, 15 Oct 2025) EndedAt: 2025-10-15 02:44:05 -0400 (Wed, 15 Oct 2025) EllapsedTime: 144.3 seconds RetCode: 0 Status: WARNINGS CheckDir: MEDME.Rcheck Warnings: 1