Package: MEAT Version: 1.20.0 Command: /home/biocbuild/R/R/bin/R CMD INSTALL MEAT StartedAt: 2025-10-13 21:21:57 -0000 (Mon, 13 Oct 2025) EndedAt: 2025-10-13 21:23:06 -0000 (Mon, 13 Oct 2025) EllapsedTime: 69.8 seconds RetCode: 0 Status: OK