Package: MEAT Version: 1.20.0 Command: /home/biocbuild/R/R/bin/R CMD check --install=check:MEAT.install-out.txt --library=/home/biocbuild/R/R/site-library --no-vignettes --timings MEAT_1.20.0.tar.gz StartedAt: 2025-10-14 10:53:48 -0000 (Tue, 14 Oct 2025) EndedAt: 2025-10-14 11:02:05 -0000 (Tue, 14 Oct 2025) EllapsedTime: 496.3 seconds RetCode: 0 Status: WARNINGS CheckDir: MEAT.Rcheck Warnings: 1