Package: MEAL Version: 1.38.0 Command: rm -rf MEAL.buildbin-libdir && mkdir MEAL.buildbin-libdir && /Users/biocbuild/BBS/utils/build-universal.sh MEAL_1.38.0.tar.gz /Library/Frameworks/R.framework/Resources/bin/R MEAL.buildbin-libdir StartedAt: 2025-10-14 13:56:36 -0400 (Tue, 14 Oct 2025) EndedAt: 2025-10-14 13:59:45 -0400 (Tue, 14 Oct 2025) EllapsedTime: 189.6 seconds RetCode: 0 Status: OK PackageFile: MEAL_1.38.0.tgz PackageFileSize: 2.143 MiB