Package: MEAL Version: 1.38.0 Command: /Library/Frameworks/R.framework/Resources/bin/R CMD INSTALL MEAL StartedAt: 2025-04-21 15:34:30 -0400 (Mon, 21 Apr 2025) EndedAt: 2025-04-21 15:34:46 -0400 (Mon, 21 Apr 2025) EllapsedTime: 16.1 seconds RetCode: 0 Status: OK