Package: MBQN Version: 2.20.0 Command: /Library/Frameworks/R.framework/Resources/bin/R CMD INSTALL MBQN StartedAt: 2025-10-13 15:38:19 -0400 (Mon, 13 Oct 2025) EndedAt: 2025-10-13 15:38:25 -0400 (Mon, 13 Oct 2025) EllapsedTime: 6.4 seconds RetCode: 0 Status: OK