Package: MBQN Version: 2.20.0 Command: /home/biocbuild/R/R/bin/R CMD INSTALL MBQN StartedAt: 2025-10-13 20:34:07 -0000 (Mon, 13 Oct 2025) EndedAt: 2025-10-13 20:34:10 -0000 (Mon, 13 Oct 2025) EllapsedTime: 3.3 seconds RetCode: 0 Status: OK