Package: MBQN Version: 2.20.0 Command: /home/biocbuild/R/R/bin/R CMD check --install=check:MBQN.install-out.txt --library=/home/biocbuild/R/R/site-library --no-vignettes --timings MBQN_2.20.0.tar.gz StartedAt: 2025-10-14 10:51:24 -0000 (Tue, 14 Oct 2025) EndedAt: 2025-10-14 10:51:54 -0000 (Tue, 14 Oct 2025) EllapsedTime: 30.0 seconds RetCode: 0 Status: OK CheckDir: MBQN.Rcheck Warnings: 0