Package: MBQN Version: 2.20.0 Command: /Library/Frameworks/R.framework/Resources/bin/R CMD INSTALL MBQN StartedAt: 2025-04-21 15:13:35 -0400 (Mon, 21 Apr 2025) EndedAt: 2025-04-21 15:13:36 -0400 (Mon, 21 Apr 2025) EllapsedTime: 1.0 seconds RetCode: 0 Status: OK