Package: MBQN Version: 2.20.0 Command: rm -rf MBQN.buildbin-libdir && mkdir MBQN.buildbin-libdir && /Users/biocbuild/BBS/utils/build-universal.sh MBQN_2.20.0.tar.gz /Library/Frameworks/R.framework/Resources/bin/R MBQN.buildbin-libdir StartedAt: 2025-04-21 22:40:55 -0400 (Mon, 21 Apr 2025) EndedAt: 2025-04-21 22:40:57 -0400 (Mon, 21 Apr 2025) EllapsedTime: 2.0 seconds RetCode: 0 Status: OK PackageFile: MBQN_2.20.0.tgz PackageFileSize: 283.9 KiB