Package: MBASED Version: 1.42.0 Command: /home/biocbuild/bbs-3.21-bioc/R/bin/R CMD INSTALL MBASED StartedAt: 2025-10-15 15:30:26 -0400 (Wed, 15 Oct 2025) EndedAt: 2025-10-15 15:30:48 -0400 (Wed, 15 Oct 2025) EllapsedTime: 21.6 seconds RetCode: 0 Status: OK