Package: MBASED Version: 1.42.0 Command: /home/biocbuild/bbs-3.21-bioc/R/bin/R CMD check --install=check:MBASED.install-out.txt --library=/home/biocbuild/bbs-3.21-bioc/R/site-library --timings MBASED_1.42.0.tar.gz StartedAt: 2025-10-16 00:42:51 -0400 (Thu, 16 Oct 2025) EndedAt: 2025-10-16 00:47:10 -0400 (Thu, 16 Oct 2025) EllapsedTime: 258.3 seconds RetCode: 0 Status: OK CheckDir: MBASED.Rcheck Warnings: 0