Package: MBASED Version: 1.42.0 Command: /Library/Frameworks/R.framework/Resources/bin/R CMD build --keep-empty-dirs --no-resave-data MBASED StartedAt: 2025-10-13 20:15:55 -0400 (Mon, 13 Oct 2025) EndedAt: 2025-10-13 20:19:39 -0400 (Mon, 13 Oct 2025) EllapsedTime: 224.0 seconds RetCode: 0 Status: OK PackageFile: MBASED_1.42.0.tar.gz PackageFileSize: 364 KiB