Package: MBASED Version: 1.42.0 Command: /home/biocbuild/R/R/bin/R CMD INSTALL MBASED StartedAt: 2025-10-13 20:46:03 -0000 (Mon, 13 Oct 2025) EndedAt: 2025-10-13 20:46:33 -0000 (Mon, 13 Oct 2025) EllapsedTime: 29.4 seconds RetCode: 0 Status: OK