Package: MBASED Version: 1.42.0 Command: /Library/Frameworks/R.framework/Resources/bin/R CMD INSTALL MBASED StartedAt: 2025-10-13 16:51:20 -0400 (Mon, 13 Oct 2025) EndedAt: 2025-10-13 16:51:45 -0400 (Mon, 13 Oct 2025) EllapsedTime: 24.5 seconds RetCode: 0 Status: OK