Package: MBASED Version: 1.42.0 Command: /Library/Frameworks/R.framework/Resources/bin/R CMD build --keep-empty-dirs --no-resave-data MBASED StartedAt: 2025-10-14 03:33:29 -0400 (Tue, 14 Oct 2025) EndedAt: 2025-10-14 03:35:55 -0400 (Tue, 14 Oct 2025) EllapsedTime: 145.9 seconds RetCode: 0 Status: OK PackageFile: MBASED_1.42.0.tar.gz PackageFileSize: 364.6 KiB