Package: MAPFX Version: 1.4.0 Command: /home/biocbuild/bbs-3.21-bioc/R/bin/R CMD check --install=check:MAPFX.install-out.txt --library=/home/biocbuild/bbs-3.21-bioc/R/site-library --timings MAPFX_1.4.0.tar.gz StartedAt: 2025-10-16 00:39:48 -0400 (Thu, 16 Oct 2025) EndedAt: 2025-10-16 00:57:34 -0400 (Thu, 16 Oct 2025) EllapsedTime: 1065.4 seconds RetCode: 0 Status: OK CheckDir: MAPFX.Rcheck Warnings: 0