Package: MAPFX Version: 1.4.0 Command: /home/biocbuild/R/R/bin/R CMD INSTALL MAPFX StartedAt: 2025-09-29 20:27:48 -0000 (Mon, 29 Sep 2025) EndedAt: 2025-09-29 20:28:19 -0000 (Mon, 29 Sep 2025) EllapsedTime: 30.2 seconds RetCode: 0 Status: OK