Package: MAI Version: 1.14.0 Command: rm -rf MAI.buildbin-libdir && mkdir MAI.buildbin-libdir && E:\biocbuild\bbs-3.21-bioc\R\bin\R.exe CMD INSTALL --build --library=MAI.buildbin-libdir MAI_1.14.0.tar.gz StartedAt: 2025-08-15 09:37:28 -0400 (Fri, 15 Aug 2025) EndedAt: 2025-08-15 09:38:02 -0400 (Fri, 15 Aug 2025) EllapsedTime: 34.2 seconds RetCode: 0 Status: OK PackageFile: MAI_1.14.0.zip PackageFileSize: 501.4 KiB