Package: MAI Version: 1.14.0 Command: /Library/Frameworks/R.framework/Resources/bin/R CMD INSTALL MAI StartedAt: 2025-04-21 15:25:15 -0400 (Mon, 21 Apr 2025) EndedAt: 2025-04-21 15:25:51 -0400 (Mon, 21 Apr 2025) EllapsedTime: 36.5 seconds RetCode: 0 Status: OK