Package: MAI Version: 1.14.0 Command: /Library/Frameworks/R.framework/Resources/bin/R CMD build --keep-empty-dirs --no-resave-data MAI StartedAt: 2025-04-21 17:20:05 -0400 (Mon, 21 Apr 2025) EndedAt: 2025-04-21 17:25:09 -0400 (Mon, 21 Apr 2025) EllapsedTime: 304.1 seconds RetCode: 0 Status: OK PackageFile: MAI_1.14.0.tar.gz PackageFileSize: 452.2 KiB