Package: MAI Version: 1.14.0 Command: /home/biocbuild/R/R/bin/R CMD INSTALL MAI StartedAt: 2025-10-13 20:45:35 -0000 (Mon, 13 Oct 2025) EndedAt: 2025-10-13 20:46:15 -0000 (Mon, 13 Oct 2025) EllapsedTime: 40.0 seconds RetCode: 0 Status: OK