Package: MAI Version: 1.14.0 Command: /home/biocbuild/R/R/bin/R CMD check --install=check:MAI.install-out.txt --library=/home/biocbuild/R/R/site-library --no-vignettes --timings MAI_1.14.0.tar.gz StartedAt: 2025-10-14 10:45:55 -0000 (Tue, 14 Oct 2025) EndedAt: 2025-10-14 10:57:04 -0000 (Tue, 14 Oct 2025) EllapsedTime: 669.5 seconds RetCode: 0 Status: OK CheckDir: MAI.Rcheck Warnings: 0