Package: MAI Version: 1.14.0 Command: /home/biocbuild/R/R/bin/R CMD build --keep-empty-dirs --no-resave-data MAI StartedAt: 2025-10-14 02:04:46 -0000 (Tue, 14 Oct 2025) EndedAt: 2025-10-14 02:12:30 -0000 (Tue, 14 Oct 2025) EllapsedTime: 464.1 seconds RetCode: 0 Status: OK PackageFile: MAI_1.14.0.tar.gz PackageFileSize: 520 KiB