Package: MAGeCKFlute Version: 2.12.0 Command: chmod a+r MAGeCKFlute -R && E:\biocbuild\bbs-3.21-bioc\R\bin\R.exe CMD build --keep-empty-dirs --no-resave-data MAGeCKFlute StartedAt: 2025-08-14 20:07:04 -0400 (Thu, 14 Aug 2025) EndedAt: 2025-08-14 20:16:04 -0400 (Thu, 14 Aug 2025) EllapsedTime: 539.4 seconds RetCode: 1 Status: ERROR PackageFile: None PackageFileSize: NA