Package: MAGeCKFlute Version: 2.12.0 Command: /Library/Frameworks/R.framework/Resources/bin/R CMD INSTALL MAGeCKFlute StartedAt: 2025-10-13 16:31:01 -0400 (Mon, 13 Oct 2025) EndedAt: 2025-10-13 16:32:12 -0400 (Mon, 13 Oct 2025) EllapsedTime: 71.7 seconds RetCode: 0 Status: OK