Package: MAGeCKFlute Version: 2.12.0 Command: /home/biocbuild/R/R/bin/R CMD build --keep-empty-dirs --no-resave-data MAGeCKFlute StartedAt: 2025-10-14 02:04:17 -0000 (Tue, 14 Oct 2025) EndedAt: 2025-10-14 02:07:59 -0000 (Tue, 14 Oct 2025) EllapsedTime: 222.1 seconds RetCode: 1 Status: ERROR PackageFile: None PackageFileSize: NA