Package: MAGAR Version: 1.16.0 Command: E:\biocbuild\bbs-3.21-bioc\R\bin\R.exe CMD check --no-multiarch --install=check:MAGAR.install-out.txt --library=E:\biocbuild\bbs-3.21-bioc\R\library --no-vignettes --timings MAGAR_1.16.0.tar.gz StartedAt: 2025-08-15 03:42:12 -0400 (Fri, 15 Aug 2025) EndedAt: 2025-08-15 03:51:28 -0400 (Fri, 15 Aug 2025) EllapsedTime: 555.4 seconds RetCode: 0 Status: OK CheckDir: MAGAR.Rcheck Warnings: 0