Package: MACSQuantifyR Version: 1.22.0 Command: /Library/Frameworks/R.framework/Resources/bin/R CMD INSTALL MACSQuantifyR StartedAt: 2025-10-13 15:19:49 -0400 (Mon, 13 Oct 2025) EndedAt: 2025-10-13 15:20:19 -0400 (Mon, 13 Oct 2025) EllapsedTime: 29.7 seconds RetCode: 0 Status: OK