Package: MACSQuantifyR Version: 1.22.0 Command: rm -rf MACSQuantifyR.buildbin-libdir && mkdir MACSQuantifyR.buildbin-libdir && /Users/biocbuild/BBS/utils/build-universal.sh MACSQuantifyR_1.22.0.tar.gz /Library/Frameworks/R.framework/Resources/bin/R MACSQuantifyR.buildbin-libdir StartedAt: 2025-10-14 13:53:56 -0400 (Tue, 14 Oct 2025) EndedAt: 2025-10-14 13:54:28 -0400 (Tue, 14 Oct 2025) EllapsedTime: 31.7 seconds RetCode: 0 Status: OK PackageFile: MACSQuantifyR_1.22.0.tgz PackageFileSize: 4.466 MiB