Package: M3Drop Version: 1.34.0 Command: /Library/Frameworks/R.framework/Resources/bin/R CMD INSTALL M3Drop StartedAt: 2025-10-13 18:14:18 -0400 (Mon, 13 Oct 2025) EndedAt: 2025-10-13 18:14:38 -0400 (Mon, 13 Oct 2025) EllapsedTime: 19.7 seconds RetCode: 0 Status: OK