Package: M3Drop Version: 1.34.0 Command: /Library/Frameworks/R.framework/Resources/bin/R CMD build --keep-empty-dirs --no-resave-data M3Drop StartedAt: 2025-10-14 03:14:56 -0400 (Tue, 14 Oct 2025) EndedAt: 2025-10-14 03:17:00 -0400 (Tue, 14 Oct 2025) EllapsedTime: 124.0 seconds RetCode: 0 Status: OK PackageFile: M3Drop_1.34.0.tar.gz PackageFileSize: 12.25 MiB