Package: LiquidAssociation Version: 1.62.0 Command: E:\biocbuild\bbs-3.21-bioc\R\bin\R.exe CMD INSTALL LiquidAssociation StartedAt: 2025-08-14 16:25:02 -0400 (Thu, 14 Aug 2025) EndedAt: 2025-08-14 16:25:46 -0400 (Thu, 14 Aug 2025) EllapsedTime: 43.4 seconds RetCode: 0 Status: OK