Package: LimROTS Version: 1.0.3 Command: rm -rf LimROTS.buildbin-libdir && mkdir LimROTS.buildbin-libdir && /Users/biocbuild/BBS/utils/build-universal.sh LimROTS_1.0.3.tar.gz /Library/Frameworks/R.framework/Resources/bin/R LimROTS.buildbin-libdir StartedAt: 2025-10-14 13:52:22 -0400 (Tue, 14 Oct 2025) EndedAt: 2025-10-14 13:53:55 -0400 (Tue, 14 Oct 2025) EllapsedTime: 92.8 seconds RetCode: 0 Status: OK PackageFile: LimROTS_1.0.3.tgz PackageFileSize: 833.4 KiB