Package: LRcell Version: 1.16.0 Command: rm -rf LRcell.buildbin-libdir && mkdir LRcell.buildbin-libdir && E:\biocbuild\bbs-3.21-bioc\R\bin\R.exe CMD INSTALL --build --library=LRcell.buildbin-libdir LRcell_1.16.0.tar.gz StartedAt: 2025-08-15 09:36:36 -0400 (Fri, 15 Aug 2025) EndedAt: 2025-08-15 09:37:07 -0400 (Fri, 15 Aug 2025) EllapsedTime: 30.7 seconds RetCode: 0 Status: OK PackageFile: LRcell_1.16.0.zip PackageFileSize: 775.7 KiB