Package: LOLA Version: 1.38.0 Command: /Library/Frameworks/R.framework/Resources/bin/R CMD INSTALL LOLA StartedAt: 2025-10-13 15:27:48 -0400 (Mon, 13 Oct 2025) EndedAt: 2025-10-13 15:28:13 -0400 (Mon, 13 Oct 2025) EllapsedTime: 25.1 seconds RetCode: 0 Status: OK