Package: LOLA Version: 1.38.0 Command: /Library/Frameworks/R.framework/Resources/bin/R CMD check --install=check:LOLA.install-out.txt --library=/Library/Frameworks/R.framework/Resources/library --no-vignettes --timings LOLA_1.38.0.tar.gz StartedAt: 2025-10-14 05:52:19 -0400 (Tue, 14 Oct 2025) EndedAt: 2025-10-14 05:55:48 -0400 (Tue, 14 Oct 2025) EllapsedTime: 208.9 seconds RetCode: 0 Status: OK CheckDir: LOLA.Rcheck Warnings: 0