Package: LOLA Version: 1.38.0 Command: /Library/Frameworks/R.framework/Resources/bin/R CMD INSTALL LOLA StartedAt: 2025-10-13 16:01:24 -0400 (Mon, 13 Oct 2025) EndedAt: 2025-10-13 16:01:38 -0400 (Mon, 13 Oct 2025) EllapsedTime: 13.6 seconds RetCode: 0 Status: OK