Package: LOLA Version: 1.38.0 Command: /Library/Frameworks/R.framework/Resources/bin/R CMD check --install=check:LOLA.install-out.txt --library=/Library/Frameworks/R.framework/Resources/library --no-vignettes --timings LOLA_1.38.0.tar.gz StartedAt: 2025-10-15 02:03:14 -0400 (Wed, 15 Oct 2025) EndedAt: 2025-10-15 02:05:05 -0400 (Wed, 15 Oct 2025) EllapsedTime: 110.8 seconds RetCode: 0 Status: OK CheckDir: LOLA.Rcheck Warnings: 0