Package: LEA Version: 3.20.0 Command: /Library/Frameworks/R.framework/Resources/bin/R CMD INSTALL LEA StartedAt: 2025-10-13 15:07:12 -0400 (Mon, 13 Oct 2025) EndedAt: 2025-10-13 15:07:38 -0400 (Mon, 13 Oct 2025) EllapsedTime: 26.3 seconds RetCode: 0 Status: OK