Package: LEA Version: 3.20.0 Command: /Library/Frameworks/R.framework/Resources/bin/R CMD INSTALL LEA StartedAt: 2025-04-21 15:03:47 -0400 (Mon, 21 Apr 2025) EndedAt: 2025-04-21 15:04:30 -0400 (Mon, 21 Apr 2025) EllapsedTime: 43.5 seconds RetCode: 0 Status: OK