Package: LEA Version: 3.20.0 Command: /Library/Frameworks/R.framework/Resources/bin/R CMD build --keep-empty-dirs --no-resave-data LEA StartedAt: 2025-10-14 03:06:12 -0400 (Tue, 14 Oct 2025) EndedAt: 2025-10-14 03:08:29 -0400 (Tue, 14 Oct 2025) EllapsedTime: 137.7 seconds RetCode: 0 Status: OK PackageFile: LEA_3.20.0.tar.gz PackageFileSize: 740.5 KiB