Package: LBE Version: 1.76.0 Command: /home/biocbuild/bbs-3.21-bioc/R/bin/R CMD INSTALL LBE StartedAt: 2025-10-15 15:02:31 -0400 (Wed, 15 Oct 2025) EndedAt: 2025-10-15 15:02:42 -0400 (Wed, 15 Oct 2025) EllapsedTime: 11.7 seconds RetCode: 0 Status: OK