Package: LBE Version: 1.76.0 Command: /home/biocbuild/bbs-3.21-bioc/R/bin/R CMD build --keep-empty-dirs --no-resave-data LBE StartedAt: 2025-10-15 18:12:21 -0400 (Wed, 15 Oct 2025) EndedAt: 2025-10-15 18:12:28 -0400 (Wed, 15 Oct 2025) EllapsedTime: 7.0 seconds RetCode: 0 Status: OK PackageFile: LBE_1.76.0.tar.gz PackageFileSize: 784 KiB