Package: LBE Version: 1.76.0 Command: /Library/Frameworks/R.framework/Resources/bin/R CMD INSTALL LBE StartedAt: 2025-10-13 15:06:59 -0400 (Mon, 13 Oct 2025) EndedAt: 2025-10-13 15:07:30 -0400 (Mon, 13 Oct 2025) EllapsedTime: 30.9 seconds RetCode: 0 Status: OK